BEGIN:VCALENDAR
VERSION:2.0
PRODID:-//LBK Design Build - ECPv6.10.1//NONSGML v1.0//EN
CALSCALE:GREGORIAN
METHOD:PUBLISH
X-WR-CALNAME:LBK Design Build
X-ORIGINAL-URL:https://lbkdesignbuild.com
X-WR-CALDESC:Events for LBK Design Build
REFRESH-INTERVAL;VALUE=DURATION:PT1H
X-Robots-Tag:noindex
X-PUBLISHED-TTL:PT1H
BEGIN:VTIMEZONE
TZID:America/New_York
BEGIN:DAYLIGHT
TZOFFSETFROM:-0500
TZOFFSETTO:-0400
TZNAME:EDT
DTSTART:20260308T070000
END:DAYLIGHT
BEGIN:STANDARD
TZOFFSETFROM:-0400
TZOFFSETTO:-0500
TZNAME:EST
DTSTART:20261101T060000
END:STANDARD
END:VTIMEZONE
BEGIN:VEVENT
DTSTART;TZID=America/New_York:20260516T113000
DTEND;TZID=America/New_York:20260516T133000
DTSTAMP:20260422T212743
CREATED:20260107T145724Z
LAST-MODIFIED:20260422T203716Z
UID:16832-1778931000-1778938200@lbkdesignbuild.com
SUMMARY:LaDIYs Who Brunch (May 16\, 2026)
DESCRIPTION:« All Events\n 				\n				\n					\n		\n					\n		\n				\n						\n					\n			\n							\n		\n					\n		\n				\n						\n					\n			\n						\n				\n					LaDIYs Who Brunch				\n				\n				\n				\n					Saturday\, May 16\, 2026 | 11:30 AM – 1:30 PM\n				\n				\n				\n						\n					\n			\n						\n				\n									Join LBK Design Build and Beth Allen\, owner of DIY Hip Chicks and host of The Empowered Homeowner on WWDB\, for a complimentary Brunch & Learn seminar! Discover practical tips for enhancing your home and learn how to confidently tackle minor repairs before calling in the pros. We’ll also cover the key questions every homeowner should ask when hiring a contractor. Get your hands dirty with a hands-on demonstration of power tools\, drywall repair\, and spackling\, so bring your own drill. If you don’t have one\, borrow one of ours by noting this in your registration. Brunch will be provided for all attendees. Location: LBK Design BuildDesign Center4814 York Rd.Doylestown\, PA 18902								\n				\n					\n		\n				\n			\n						\n				\n																														\n				\n					\n		\n					\n		\n					\n		\n					\n		\n				\n						\n					\n			\n						\n				\n					Registration:				\n				\n				\n				\n					Registration will open soon. 				\n				\n					\n		\n					\n		\n				\n						\n					\n			\n						\n				\n					Design Center Location				\n				\n				\n				\n							\n			\n		\n						\n				\n					\n		\n					\n		\n				\n						\n					\n			\n						\n						\n					\n			\n						\n				\n					\n	\n		\n\n	\n	Add to calendar	\n		\n	\n\n		\n			\n									\n	Google Calendar\n\n									\n	iCalendar\n\n									\n	Outlook 365\n\n									\n	Outlook Live\n\n							\n		\n\n		\n	\n\n				\n				\n					\n		\n					\n		\n				\n						\n					\n			\n						\n				\n					\n	\n		\n		\n	\n		Interior Remodeling: Kitchens\, Baths\, and Addition Brunch and Learn (June 27\, 2026)
URL:https://lbkdesignbuild.com/event/ladiys-who-brunch-2026-05-16-web/
LOCATION:LBK Design Build\, 4814 York Road\, Doylestown\, PA\, 18902\, United States
CATEGORIES:LBK Events
ATTACH;FMTTYPE=image/jpeg:https://lbkdesignbuild.com/wp-content/uploads/2025/03/LaDIYs-Who-Brunch.jpg
END:VEVENT
END:VCALENDAR